BEGIN:VCALENDAR
VERSION:2.0
PRODID:-//Jerkov - ECPv6.15.20//NONSGML v1.0//EN
CALSCALE:GREGORIAN
METHOD:PUBLISH
X-ORIGINAL-URL:https://jerkov.de
X-WR-CALDESC:Veranstaltungen für Jerkov
REFRESH-INTERVAL;VALUE=DURATION:PT1H
X-Robots-Tag:noindex
X-PUBLISHED-TTL:PT1H
BEGIN:VTIMEZONE
TZID:Europe/Berlin
BEGIN:DAYLIGHT
TZOFFSETFROM:+0100
TZOFFSETTO:+0200
TZNAME:CEST
DTSTART:20250330T010000
END:DAYLIGHT
BEGIN:STANDARD
TZOFFSETFROM:+0200
TZOFFSETTO:+0100
TZNAME:CET
DTSTART:20251026T010000
END:STANDARD
BEGIN:DAYLIGHT
TZOFFSETFROM:+0100
TZOFFSETTO:+0200
TZNAME:CEST
DTSTART:20260329T010000
END:DAYLIGHT
BEGIN:STANDARD
TZOFFSETFROM:+0200
TZOFFSETTO:+0100
TZNAME:CET
DTSTART:20261025T010000
END:STANDARD
BEGIN:DAYLIGHT
TZOFFSETFROM:+0100
TZOFFSETTO:+0200
TZNAME:CEST
DTSTART:20270328T010000
END:DAYLIGHT
BEGIN:STANDARD
TZOFFSETFROM:+0200
TZOFFSETTO:+0100
TZNAME:CET
DTSTART:20271031T010000
END:STANDARD
END:VTIMEZONE
BEGIN:VEVENT
DTSTART;TZID=Europe/Berlin:20261027T160000
DTEND;TZID=Europe/Berlin:20261031T163000
DTSTAMP:20260423T174050
CREATED:20230503T143939Z
LAST-MODIFIED:20251016T080345Z
UID:5384-1793116800-1793464200@jerkov.de
SUMMARY:Basis-Seminar mit Augentraining
DESCRIPTION:Basis-Seminar mit Augentraining 5 TageGesundheit aus eigener Kraft\n\n\n\nSeminarzeiten \n\n\n\nDi\, 27.10.2026: 16.00-21.30Mi-Fr\, 28.-30.10.2026: 09.00-18.30Sa\, 31.10.2026: 09.00-16.30 \n\n\n\n>> Für mehr Information bitte hier klicken\n\n\n\nIhr Nutzen: \n\n\n\n\nGanzheitliches Augentraining. Verbesserung der Sehkraft.\n\n\n\nVerbesserung des Gehörs. Tinnitus-frei.\n\n\n\nTechniken zur Zellerneuerung und Verjüngung.\n\n\n\nAktivierung der Selbstheilungskräfte des Organismus.\n\n\n\nImmunsystem fördern und stärken.\n\n\n\nKörpertraining. Bewegliche Gelenke und Wirbelsäule.\n\n\n\nJunge\, gesunde und faltenfreie Haut zurückbekommen.\n\n\n\nKörpergewicht optimieren. Figur umformen.\n\n\n\nStress abbauen. Innere Ruhe finden. Gelassenheit lernen.\n\n\n\nSchlafqualität verbessern.\n\n\n\nMehr Lebensfreude im Alltag gewinnen.\n\n\n\nLebensenergie und Arbeitsvermögen erhöhen.\n\n\n\nSelbstwertgefühl und Selbstvertrauen steigern.\n\n\n\n\n\n\n\n\nIhre Investition in Ihre Gesundheit\, Glück und Erfolg: \n\n\n\nBasis-Seminar: 749\,- Euro incl. MwSt. und umfangreicher Unterlagen1.Tag: Auch einzeln buchbar. Investition: 70\,- Euro10% Ermäßigung für Partner\, Studenten\, Schüler und Rentner: 674\,10 Euro35% Ermäßigung für Wiederholer des Basis-Seminars: 486\,85 Euro \n\n\n\nBei ermäßigten Angeboten kann nur eine Ermäßigung pro Veranstaltung in Anspruch genommen werden.Unterkunft und Verpflegung sind im Seminarpreis nicht inbegriffen. \n\n\n\nWir freuen uns auf Sie! \n\n\n\nMit herzlichem Gruß\,Ihre Tatyana Jerkova und Georgi JerkovExperten für ganzheitliche Augenheilkunde\, Stressmanagement und SelbstheilungWissenschaftler und Bestseller Buchautoren \n\n\n\n  \n\n\n\nANMELDEFORMULAR\n\n\n\n\n\n\nBitte aktiviere JavaScript in deinem Browser\, um dieses Formular fertigzustellen.SeminarEinzeiliger TextAnrede *FrauHerrVorname *Nachname *Geburtsdatum *Straße *Hausnummer *PLZ *Ort *Land *		\n			Ort Seminars) die\n			\n		\n		Telefonnummer *E-Mail *Ziel der Teilnahme *AugentrainingSelbstheilungskräfte aktivierenPräventionStressbewältigungPersönlichkeitsentwicklungZielsetzungNeugierGehörtrainingVerjüngungSelbstvertrauenGleichgewicht im AlltagIntuitionBerufserfolgAnderesWie haben Sie von uns erfahren? *Persönliche EmpfehlungSuchmaschineFachliteraturNewsletterBesuch einer VeranstaltungBereits an einem Seminar TeilgenommenAndereAnspruch auf Ermäßigung: (Student\, Schüler\, Partner\, Rentner\, Wiederholer des gleichen Seminars)Anspruch auf Ermäßigung: (Student\, Schüler\, Partner\, Rentner\, Wiederholer des gleichen Seminars)NachrichtIch abonniere gerne Ihren kostenlosen Newsletter. Ich möchte regelmäßig Informationen und Angebote personalisiert per E-Mail erhalten. Diese Einwilligung zur Nutzung meiner E-Mail-Adresse für Informations- und Werbezwecke kann ich jederzeit mit Wirkung für die Zukunft widerrufen.Ich abonniere gerne Ihren kostenlosen Newsletter. Ich möchte regelmäßig Informationen und Angebote personalisiert per E-Mail erhalten. Diese Einwilligung zur Nutzung meiner E-Mail-Adresse für Informations- und Werbezwecke kann ich jederzeit mit Wirkung für die Zukunft widerrufen.Bestätigen *Hiermit bestätige ich\, dass ich mindestens 16 Jahre alt bin. Ich habe die Allgemeinen Geschäftsbedingungen (AGB) sowie die Datenschutzerklärung gelesen\, verstanden und akzeptiere sie.Anmelden  \n\n\n\n\n\n\n\n\n\nBasis-Seminar-mit-Augentraining-1Flyer zum Herunterladen
URL:https://jerkov.de/seminar/basis-seminar-mit-augentraining-19/
LOCATION:Bildungshaus Kloster Neustift\, Stiftstraße 1\, Vahrn\, Südtirol\, 39040\, Italien
CATEGORIES:Basis-Seminar mit Augentraining
END:VEVENT
BEGIN:VEVENT
DTSTART;TZID=Europe/Berlin:20261119T160000
DTEND;TZID=Europe/Berlin:20261121T143000
DTSTAMP:20260423T174050
CREATED:20230503T143556Z
LAST-MODIFIED:20250603T100854Z
UID:5380-1795104000-1795271400@jerkov.de
SUMMARY:Stressmanagement-Seminar mit Augentraining
DESCRIPTION:Stressmanagement-Seminar mit Augentraining 3 TageStressabbau\, Selbstheilung und gutes Sehen\n\n\n\nSeminarzeiten \n\n\n\nDo\, 19.11.26: 16.00-21.00 UhrFr\, 20.11.26: 09.00-16.15 UhrSa\, 21.11.26: 09.00-14.15 Uhr \n\n\n\n>> Für mehr Information bitte hier klicken\n\n\n\nIhr Nutzen: \n\n\n\n\nGanzheitliches Augentraining. Verbesserung der Sehkraft\n\n\n\nKurz– und Alterssichtigkeit verbessern\n\n\n\nMaßnahmen gegen Grauen und Grünen Star\n\n\n\nAktivierung der Selbstheilungskräfte des Organismus\n\n\n\nImmunsystem fördern und stärken\n\n\n\nKörpertraining. Bewegliche Gelenke und Wirbelsäule\n\n\n\nStress abbauen. Innere Ruhe finden. Gelassenheit lernen\n\n\n\nSchlafqualität verbessern\n\n\n\nMehr Lebensfreude im Alltag gewinnen\n\n\n\nKonzentration und Arbeitsvermögen erhöhen\n\n\n\nPersönliches Trainingsprogramm für zu Hause\n\n\n\n\nIn diesem Seminar erfahren Sie die Zusammenhänge von gesundem Sehen mit innerer Stimmung\, mit alltäglichem psychischem Druck und Stress\, mit Atmung\, Entspannung und Meditation. \n\n\n\nIm Seminar finden Sie die perfekten Lösungen für Stressprävention\, Stressabbau sowie für Wiederherstellung der Sehkraft! \n\n\n\nEmpfehlenswert für alle\, die ihr Leben voller Lebensfreude\, Gelassenheit und Souveränität meistern und ohne künstliche Sehhilfe wieder gut sehen wollen. \n\n\n\n\n\n\n\nIhre Investition in Ihre innere Ruhe und gutes Sehen: \n\n\n\nSeminargebühr: 439\,- Euro incl. umfangreicher Unterlagen10% Ermäßigung für Partner\, Studenten\, Schüler und Rentner: 395\,10 Euro20% Ermäßigung für Wiederholer des Stressmanagement-Seminars mit Augentraining: 351\,20 Euro \n\n\n\nBei ermäßigten Angeboten kann nur eine Ermäßigung pro Veranstaltung in Anspruch genommen werden.Unterkunft und Verpflegung sind im Seminarpreis nicht inbegriffen. \n\n\n\nWir freuen uns auf Sie! \n\n\n\nMit herzlichem Gruß\,Ihre Tatyana Jerkova und Georgi JerkovGanzheitliche Augentraining\, Stressmanagement und Selbstheilung Experten \n\n\n\n  \n\n\n\nANMELDEFORMULAR\n\n\n\n\n\n\n\nBitte aktiviere JavaScript in deinem Browser\, um dieses Formular fertigzustellen.SeminarEinzeiliger TextAnrede *FrauHerrVorname *		\n			erhalten. Vorname E-Mail\n			\n		\n		Nachname *Geburtsdatum *Straße *Hausnummer *PLZ *Ort *Land *Telefonnummer *E-Mail *Ziel der Teilnahme *AugentrainingSelbstheilungskräfte aktivierenPräventionStressbewältigungPersönlichkeitsentwicklungZielsetzungNeugierGehörtrainingVerjüngungSelbstvertrauenGleichgewicht im AlltagIntuitionBerufserfolgAnderesWie haben Sie von uns erfahren? *Persönliche EmpfehlungSuchmaschineFachliteraturNewsletterBesuch einer VeranstaltungBereits an einem Seminar TeilgenommenAndereAnspruch auf Ermäßigung: (Student\, Schüler\, Partner\, Rentner\, Wiederholer des gleichen Seminars)Anspruch auf Ermäßigung: (Student\, Schüler\, Partner\, Rentner\, Wiederholer des gleichen Seminars)NachrichtIch abonniere gerne Ihren kostenlosen Newsletter. Ich möchte regelmäßig Informationen und Angebote personalisiert per E-Mail erhalten. Diese Einwilligung zur Nutzung meiner E-Mail-Adresse für Informations- und Werbezwecke kann ich jederzeit mit Wirkung für die Zukunft widerrufen.Ich abonniere gerne Ihren kostenlosen Newsletter. Ich möchte regelmäßig Informationen und Angebote personalisiert per E-Mail erhalten. Diese Einwilligung zur Nutzung meiner E-Mail-Adresse für Informations- und Werbezwecke kann ich jederzeit mit Wirkung für die Zukunft widerrufen.Bestätigen *Hiermit bestätige ich\, dass ich mindestens 16 Jahre alt bin. Ich habe die Allgemeinen Geschäftsbedingungen (AGB) sowie die Datenschutzerklärung gelesen\, verstanden und akzeptiere sie.Anmelden  \n\n\n\n\n\n\n\n\nStressmanagement-Seminar-mit-AugentrainingFlyer zum Herunterladen
URL:https://jerkov.de/seminar/stressmanagement-seminar-mit-augentraining-13/
LOCATION:Bildungshaus Kloster Neustift\, Stiftstraße 1\, Vahrn\, Südtirol\, 39040\, Italien
CATEGORIES:Stressmanagement-Seminar mit Augentraining
END:VEVENT
BEGIN:VEVENT
DTSTART;TZID=Europe/Berlin:20261123T170000
DTEND;TZID=Europe/Berlin:20261129T143000
DTSTAMP:20260423T174050
CREATED:20231010T203718Z
LAST-MODIFIED:20260311T184645Z
UID:7346-1795453200-1795962600@jerkov.de
SUMMARY:Basis-Seminar mit Augentraining
DESCRIPTION:Stufe 1. Basis-Seminar mit Augentraining 7 TageGesundheit aus eigener Kraft\n\n\n\nSeminarzeiten \n\n\n\nMo-Fr\, 23.-27.11.2026: 17.00-22.00Sa-So\, 28.-29.11.2026: 9.30-14.30 \n\n\n\n>> Für mehr Information bitte hier klicken\n\n\n\nIhr Nutzen: \n\n\n\n\nGanzheitliches Augentraining. Verbesserung der Sehkraft.\n\n\n\nVerbesserung des Gehörs. Tinnitus-frei.\n\n\n\nTechniken zur Zellerneuerung und Verjüngung.\n\n\n\nAktivierung der Selbstheilungskräfte des Organismus.\n\n\n\nImmunsystem fördern und stärken.\n\n\n\nKörpertraining. Bewegliche Gelenke und Wirbelsäule.\n\n\n\nJunge\, gesunde und faltenfreie Haut zurückbekommen.\n\n\n\nKörpergewicht optimieren. Figur umformen.\n\n\n\nStress abbauen. Innere Ruhe finden. Gelassenheit lernen.\n\n\n\nSchlafqualität verbessern.\n\n\n\nMehr Lebensfreude im Alltag gewinnen.\n\n\n\nLebensenergie und Arbeitsvermögen erhöhen.\n\n\n\nSelbstwertgefühl und Selbstvertrauen steigern.\n\n\n\n\n\n\n\n\nIhre Investition in Ihre Gesundheit\, Glück und Erfolg: \n\n\n\nBasis-Seminar: 749\,- Euro incl. umfangreicher Unterlagen1.Tag: Auch einzeln buchbar. Investition: 70\,- Euro10% Ermäßigung für Partner\, Studenten\, Schüler und Rentner: 674\,10 Euro35% Ermäßigung für Wiederholer des Basis-Seminars: 486\,85 Euro \n\n\n\nBei ermäßigten Angeboten kann nur eine Ermäßigung pro Veranstaltung in Anspruch genommen werden.Unterkunft und Verpflegung sind im Seminarpreis nicht inbegriffen.Frühbucherrabatt: 5% vom Seminarpreis\, bei Überweisung der ganzen Seminargebühr bis spätestens 40 Tage vor Seminarbeginn. Der Rabatt ist mit allen Ermäßigungen kombinierbar. \n\n\n\nRatenzahlung ist möglich. \n\n\n\nWir freuen uns auf Sie! \n\n\n\nMit herzlichem Gruß\,Ihre Tatyana Jerkova und Georgi JerkovGanzheitliche Augentraining\, Stressmanagement und Selbstheilung Experten \n\n\n\n \n\n\n\nANMELDEFORMULAR\n\n\n\n\n\n\nBitte aktiviere JavaScript in deinem Browser\, um dieses Formular fertigzustellen.SeminarEinzeiliger TextAnrede *FrauHerr		\n			Zukunft Ermäßigung: erfahren?\n			\n		\n		Vorname *Nachname *Geburtsdatum *Straße *Hausnummer *PLZ *Ort *Land *Telefonnummer *E-Mail *Ziel der Teilnahme *AugentrainingSelbstheilungskräfte aktivierenPräventionStressbewältigungPersönlichkeitsentwicklungZielsetzungNeugierGehörtrainingVerjüngungSelbstvertrauenGleichgewicht im AlltagIntuitionBerufserfolgAnderesWie haben Sie von uns erfahren? *Persönliche EmpfehlungSuchmaschineFachliteraturNewsletterBesuch einer VeranstaltungBereits an einem Seminar TeilgenommenAndereAnspruch auf Ermäßigung: (Student\, Schüler\, Partner\, Rentner\, Wiederholer des gleichen Seminars)Anspruch auf Ermäßigung: (Student\, Schüler\, Partner\, Rentner\, Wiederholer des gleichen Seminars)NachrichtIch abonniere gerne Ihren kostenlosen Newsletter. Ich möchte regelmäßig Informationen und Angebote personalisiert per E-Mail erhalten. Diese Einwilligung zur Nutzung meiner E-Mail-Adresse für Informations- und Werbezwecke kann ich jederzeit mit Wirkung für die Zukunft widerrufen.Ich abonniere gerne Ihren kostenlosen Newsletter. Ich möchte regelmäßig Informationen und Angebote personalisiert per E-Mail erhalten. Diese Einwilligung zur Nutzung meiner E-Mail-Adresse für Informations- und Werbezwecke kann ich jederzeit mit Wirkung für die Zukunft widerrufen.Bestätigen *Hiermit bestätige ich\, dass ich mindestens 16 Jahre alt bin. Ich habe die Allgemeinen Geschäftsbedingungen (AGB) sowie die Datenschutzerklärung gelesen\, verstanden und akzeptiere sie.Anmelden  \n\n\n\n\n\n\n\n\n\nBasis-Seminar-mit-Augentraining-1Flyer zum Herunterladen
URL:https://jerkov.de/seminar/basis-seminar-mit-augentraining-11/
LOCATION:Yoga & Seminarzentrum Schorndorf\, Damaschkestraße 3\, Schorndorf\, 73614
CATEGORIES:Basis-Seminar mit Augentraining
END:VEVENT
END:VCALENDAR